BEGIN:VCALENDAR
VERSION:2.0
PRODID:-//Európsky zbor solidarity - ECPv6.15.15//NONSGML v1.0//EN
CALSCALE:GREGORIAN
METHOD:PUBLISH
X-WR-CALNAME:Európsky zbor solidarity
X-ORIGINAL-URL:https://zborsolidarity.eu
X-WR-CALDESC:Udalosti pre Európsky zbor solidarity
REFRESH-INTERVAL;VALUE=DURATION:PT1H
X-Robots-Tag:noindex
X-PUBLISHED-TTL:PT1H
BEGIN:VTIMEZONE
TZID:Europe/Paris
BEGIN:DAYLIGHT
TZOFFSETFROM:+0100
TZOFFSETTO:+0200
TZNAME:CEST
DTSTART:20180325T010000
END:DAYLIGHT
BEGIN:STANDARD
TZOFFSETFROM:+0200
TZOFFSETTO:+0100
TZNAME:CET
DTSTART:20181028T010000
END:STANDARD
BEGIN:DAYLIGHT
TZOFFSETFROM:+0100
TZOFFSETTO:+0200
TZNAME:CEST
DTSTART:20190331T010000
END:DAYLIGHT
BEGIN:STANDARD
TZOFFSETFROM:+0200
TZOFFSETTO:+0100
TZNAME:CET
DTSTART:20191027T010000
END:STANDARD
BEGIN:DAYLIGHT
TZOFFSETFROM:+0100
TZOFFSETTO:+0200
TZNAME:CEST
DTSTART:20200329T010000
END:DAYLIGHT
BEGIN:STANDARD
TZOFFSETFROM:+0200
TZOFFSETTO:+0100
TZNAME:CET
DTSTART:20201025T010000
END:STANDARD
END:VTIMEZONE
BEGIN:VEVENT
DTSTART;VALUE=DATE:20191019
DTEND;VALUE=DATE:20191025
DTSTAMP:20260421T031252
CREATED:20191010T092224Z
LAST-MODIFIED:20191010T094100Z
UID:689-1571446800-1571878799@zborsolidarity.eu
SUMMARY:European Solidarity Corps for All
DESCRIPTION:European Solidarity Corps for All\nŠkolenie je určené pre pracovníkov s mládežou\, sociálnych pracovníkov a projektových manažérov\, ktorí sú motivovaní rozvíjať budúce projekty v oblasti inklúzie v rámci programu Európsky zbor Solidarity. Cieľom tohto školenia je docieliť\, aby program Európsky zbor solidarity bol vo väčšej miere inkluzívny a dostupnejší pre mladých ľudí s nedostatkom príležitostí. Prihlásiť sa môžu aj organizácie\, ktoré majú záujem zistiť viac o možnostiach programu Európsky zbor solidarity. \nCiele aktivity\n\npovzbudiť pracovníkov s mládežou\, aby realizovali inkluzívne projekty. Odstrániť obavy a prekážky\, ktoré im bránia v realizácii podobných projektov.\nlepšie pochopiť mladých ľudí s nedostatkom príležitostí\,\nzískať praktické poznatky ako pracovať s inklúziou v rámci programu Európsky zbor solidarity a ako podporiť vzdelávací proces mladých ľudí s nedostatkom príležitostí\,\ndiskutovať a analyzovať výzvy pre mladých ľudí s nedostatkom príležitostí v rámci aktivít Európskeho zboru solidarity\,\nzoznámiť sa s rôznymi nástrojmi\, metódami a postupmi na inklúziu\,\nvymeniť si dobré príklady praxe o tom\, ako inkluzívne projekty môžu ovplyvniť osobné cesty cieľovej skupiny.\n\nPracovný jazyk\nangličtina \nCieľová skupina\nPracovníci s mládežou\, mládežnícky lídri\, manažéri mládežníckych projektov\, účastnícke organizácie programu Európsky zbor solidarity \nPočet účastníkov\n6 účastníkov zo SR \nNáklady spojené s účasťou na školení\nUbytovanie a strava sú hradené z prostriedkov programu Erasmus+. 90% cestovných nákladov hradí účastníkovi slovenská Národná agentúra a 10% si hradí účastník sám alebo hradí minimálne 20 EUR v prípade\, že sa jedná o menšiu sumu. \nKontaktná osoba\nMgr. Matúš Zibala\ntel.: (+421-2) 59 29 63 13\nm.t.: (+421-917) 40 25 08\ne-mail: matus.zibala@iuventa.sk \nPre bližšie informácie a prihlášku klikajte tu. \nUzávierka prihlášok: 22. augusta 2019
URL:https://zborsolidarity.eu/skolenie/european-solidarity-corps-for-all/
LOCATION:Piešťany\, 92101\, Slovenská republika
END:VEVENT
END:VCALENDAR